BEGIN:VCALENDAR
VERSION:2.0
PRODID:-//Nick Grono - ECPv6.15.17//NONSGML v1.0//EN
CALSCALE:GREGORIAN
METHOD:PUBLISH
X-WR-CALNAME:Nick Grono
X-ORIGINAL-URL:https://leadnonprofits.org
X-WR-CALDESC:Events for Nick Grono
REFRESH-INTERVAL;VALUE=DURATION:PT1H
X-Robots-Tag:noindex
X-PUBLISHED-TTL:PT1H
BEGIN:VTIMEZONE
TZID:UTC
BEGIN:STANDARD
TZOFFSETFROM:+0000
TZOFFSETTO:+0000
TZNAME:UTC
DTSTART:20230101T000000
END:STANDARD
END:VTIMEZONE
BEGIN:VEVENT
DTSTART;TZID=UTC:20241202T180000
DTEND;TZID=UTC:20241202T200000
DTSTAMP:20260423T155825
CREATED:20241005T144040Z
LAST-MODIFIED:20241013T084746Z
UID:242426-1733162400-1733169600@leadnonprofits.org
SUMMARY:How to Lead Nonprofits – discussion with the author\, Nick Grono (Sydney)
DESCRIPTION:Join us for a rich discussion on the joys and challenges of nonprofit leadership to coincide with the publication of Nick Grono’s book\, “How to Lead Nonprofits”\, hosted by Gilbert + Tobin. \nRegistration link to follow shortly.
URL:https://leadnonprofits.org/event/how-to-lead-nonprofits-discussion-with-the-author-nick-grono/
LOCATION:Gilbert + Tobin Lawyers\, Sydney\, Tower 2/200 Barangaroo Ave\, Sydney\, NSW\, 2000\, Australia
END:VEVENT
BEGIN:VEVENT
DTSTART;TZID=UTC:20241127T180000
DTEND;TZID=UTC:20241127T200000
DTSTAMP:20260423T155825
CREATED:20241005T143522Z
LAST-MODIFIED:20241013T084833Z
UID:242421-1732730400-1732737600@leadnonprofits.org
SUMMARY:How to Lead Nonprofits - discussion with author\, Nick Grono (Melbourne)
DESCRIPTION:Join us for a rich discussion on the joys and challenges of nonprofit leadership to coincide with the publication of Nick Grono’s book\, “How to Lead Nonprofits”\, hosted by Gilbert + Tobin. \nRegistration link to follow shortly.
URL:https://leadnonprofits.org/event/how-to-lead-nonprofits-discussion-with-author-nick-grono/
LOCATION:Gilbert + Tobin Lawyers\, Melbourne\, 101 Collins St\, Melbourne\, Victoria\, 3000\, Australia
END:VEVENT
BEGIN:VEVENT
DTSTART;TZID=UTC:20241125T090000
DTEND;TZID=UTC:20241125T103000
DTSTAMP:20260423T155825
CREATED:20241005T143108Z
LAST-MODIFIED:20241013T085116Z
UID:242414-1732525200-1732530600@leadnonprofits.org
SUMMARY:The joys and challenges of leading nonprofits (Perth)
DESCRIPTION:Minderoo Foundation will be hosting a panel discussion on nonprofit leadership\, to coincide with the publication of Nick Grono’s book “How to Lead Nonprofits”. \nThe event will be moderated by Jay Weatherill. Panellists will include Nick Grono and two other nonprofit leaders. Details to follow. \n  \n 
URL:https://leadnonprofits.org/event/the-joys-and-challenges-of-leading-nonprofits/
LOCATION:The Swan Brewery\, Perth\, The Swan Brewery\, Perth\, Western Australia\, Australia
END:VEVENT
BEGIN:VEVENT
DTSTART;TZID=UTC:20241008T180000
DTEND;TZID=UTC:20241008T191500
DTSTAMP:20260423T155825
CREATED:20240903T031456Z
LAST-MODIFIED:20240910T072052Z
UID:242364-1728410400-1728414900@leadnonprofits.org
SUMMARY:How To Be A More Impactful Non-Profit Leader
DESCRIPTION:Nick Grono in conversation with non-profit leaders\, Mabel van Oranje and Danny Sriskandarajah exploring joys and challenges of non-profit leadership. Register here.
URL:https://leadnonprofits.org/event/how-to-be-a-more-impactful-non-profit-leader/
LOCATION:The Conduit\, 6 Langley St\, London\, WC2H 9JA\, United Kingdom
CATEGORIES:Event
ATTACH;FMTTYPE=image/jpeg:https://leadnonprofits.org/wp-content/uploads/2024/09/2150951243-1.jpg
END:VEVENT
END:VCALENDAR