BEGIN:VCALENDAR
VERSION:2.0
PRODID:-//Nick Grono - ECPv6.15.17//NONSGML v1.0//EN
CALSCALE:GREGORIAN
METHOD:PUBLISH
X-WR-CALNAME:Nick Grono
X-ORIGINAL-URL:https://leadnonprofits.org
X-WR-CALDESC:Events for Nick Grono
REFRESH-INTERVAL;VALUE=DURATION:PT1H
X-Robots-Tag:noindex
X-PUBLISHED-TTL:PT1H
BEGIN:VTIMEZONE
TZID:UTC
BEGIN:STANDARD
TZOFFSETFROM:+0000
TZOFFSETTO:+0000
TZNAME:UTC
DTSTART:20230101T000000
END:STANDARD
END:VTIMEZONE
BEGIN:VEVENT
DTSTART;TZID=UTC:20241008T180000
DTEND;TZID=UTC:20241008T191500
DTSTAMP:20260423T203417
CREATED:20240903T031456Z
LAST-MODIFIED:20240910T072052Z
UID:242364-1728410400-1728414900@leadnonprofits.org
SUMMARY:How To Be A More Impactful Non-Profit Leader
DESCRIPTION:Nick Grono in conversation with non-profit leaders\, Mabel van Oranje and Danny Sriskandarajah exploring joys and challenges of non-profit leadership. Register here.
URL:https://leadnonprofits.org/event/how-to-be-a-more-impactful-non-profit-leader/
LOCATION:The Conduit\, 6 Langley St\, London\, WC2H 9JA\, United Kingdom
CATEGORIES:Event
ATTACH;FMTTYPE=image/jpeg:https://leadnonprofits.org/wp-content/uploads/2024/09/2150951243-1.jpg
END:VEVENT
END:VCALENDAR